BEGIN:VCALENDAR
VERSION:2.0
PRODID:-//Waring School - ECPv6.15.15//NONSGML v1.0//EN
CALSCALE:GREGORIAN
METHOD:PUBLISH
X-ORIGINAL-URL:https://www.waringschool.org
X-WR-CALDESC:Events for Waring School
REFRESH-INTERVAL;VALUE=DURATION:PT1H
X-Robots-Tag:noindex
X-PUBLISHED-TTL:PT1H
BEGIN:VTIMEZONE
TZID:America/New_York
BEGIN:DAYLIGHT
TZOFFSETFROM:-0500
TZOFFSETTO:-0400
TZNAME:EDT
DTSTART:20230312T070000
END:DAYLIGHT
BEGIN:STANDARD
TZOFFSETFROM:-0400
TZOFFSETTO:-0500
TZNAME:EST
DTSTART:20231105T060000
END:STANDARD
BEGIN:DAYLIGHT
TZOFFSETFROM:-0500
TZOFFSETTO:-0400
TZNAME:EDT
DTSTART:20240310T070000
END:DAYLIGHT
BEGIN:STANDARD
TZOFFSETFROM:-0400
TZOFFSETTO:-0500
TZNAME:EST
DTSTART:20241103T060000
END:STANDARD
BEGIN:DAYLIGHT
TZOFFSETFROM:-0500
TZOFFSETTO:-0400
TZNAME:EDT
DTSTART:20250309T070000
END:DAYLIGHT
BEGIN:STANDARD
TZOFFSETFROM:-0400
TZOFFSETTO:-0500
TZNAME:EST
DTSTART:20251102T060000
END:STANDARD
END:VTIMEZONE
BEGIN:VEVENT
DTSTART;TZID=America/New_York:20241106T140000
DTEND;TZID=America/New_York:20241106T180000
DTSTAMP:20260422T063419
CREATED:20241107T165700Z
LAST-MODIFIED:20260402T213919Z
UID:10000274-1730901600-1730916000@www.waringschool.org
SUMMARY:Van
DESCRIPTION:
URL:https://www.waringschool.org/event/van/
LOCATION:Vans-Van – 1 (Y13-196) (15)
CATEGORIES:Athletics
END:VEVENT
BEGIN:VEVENT
DTSTART;TZID=America/New_York:20241001T152500
DTEND;TZID=America/New_York:20241001T170000
DTSTAMP:20260422T063419
CREATED:20240924T123950Z
LAST-MODIFIED:20240925T035628Z
UID:10000248-1727796300-1727802000@www.waringschool.org
SUMMARY:Afternoon theatre -designers
DESCRIPTION:
URL:https://www.waringschool.org/event/afternoon-theatre-designers/
LOCATION:Vans-Van – 1 (Y13-196) (15)
CATEGORIES:Academic
END:VEVENT
END:VCALENDAR