BEGIN:VCALENDAR
VERSION:2.0
PRODID:-//Waring School - ECPv6.15.15//NONSGML v1.0//EN
CALSCALE:GREGORIAN
METHOD:PUBLISH
X-WR-CALNAME:Waring School
X-ORIGINAL-URL:https://www.waringschool.org
X-WR-CALDESC:Events for Waring School
REFRESH-INTERVAL;VALUE=DURATION:PT1H
X-Robots-Tag:noindex
X-PUBLISHED-TTL:PT1H
BEGIN:VTIMEZONE
TZID:America/New_York
BEGIN:DAYLIGHT
TZOFFSETFROM:-0500
TZOFFSETTO:-0400
TZNAME:EDT
DTSTART:20250309T070000
END:DAYLIGHT
BEGIN:STANDARD
TZOFFSETFROM:-0400
TZOFFSETTO:-0500
TZNAME:EST
DTSTART:20251102T060000
END:STANDARD
BEGIN:DAYLIGHT
TZOFFSETFROM:-0500
TZOFFSETTO:-0400
TZNAME:EDT
DTSTART:20260308T070000
END:DAYLIGHT
BEGIN:STANDARD
TZOFFSETFROM:-0400
TZOFFSETTO:-0500
TZNAME:EST
DTSTART:20261101T060000
END:STANDARD
BEGIN:DAYLIGHT
TZOFFSETFROM:-0500
TZOFFSETTO:-0400
TZNAME:EDT
DTSTART:20270314T070000
END:DAYLIGHT
BEGIN:STANDARD
TZOFFSETFROM:-0400
TZOFFSETTO:-0500
TZNAME:EST
DTSTART:20271107T060000
END:STANDARD
END:VTIMEZONE
BEGIN:VEVENT
DTSTART;TZID=America/New_York:20260422T153000
DTEND;TZID=America/New_York:20260422T163000
DTSTAMP:20260422T195310
CREATED:20260401T200924Z
LAST-MODIFIED:20260401T200924Z
UID:10000882-1776871800-1776875400@www.waringschool.org
SUMMARY:JV Ultimate @ Commonwealth
DESCRIPTION:
URL:https://www.waringschool.org/event/jv-ultimate-commonwealth-2/
LOCATION:Teddy Ebersol’s Red Sox Fields\, 2 Embankment Rd\, Boston\, MA\, United States
CATEGORIES:Athletics
GEO:42.36092;-71.070889
X-APPLE-STRUCTURED-LOCATION;VALUE=URI;X-ADDRESS=Teddy Ebersol’s Red Sox Fields 2 Embankment Rd Boston MA United States;X-APPLE-RADIUS=500;X-TITLE=2 Embankment Rd:geo:-71.070889,42.36092
END:VEVENT
BEGIN:VEVENT
DTSTART;TZID=America/New_York:20260422T153000
DTEND;TZID=America/New_York:20260422T163000
DTSTAMP:20260422T195310
CREATED:20260401T200924Z
LAST-MODIFIED:20260422T135416Z
UID:10000888-1776871800-1776875400@www.waringschool.org
SUMMARY:JV Ultimate @ Commonwealth
DESCRIPTION:
URL:https://www.waringschool.org/event/jv-ultimate-commonwealth/
LOCATION:Teddy Ebersol’s Red Sox Fields\, 2 Embankment Rd\, Boston\, MA\, United States
CATEGORIES:Athletics
GEO:42.36092;-71.070889
X-APPLE-STRUCTURED-LOCATION;VALUE=URI;X-ADDRESS=Teddy Ebersol’s Red Sox Fields 2 Embankment Rd Boston MA United States;X-APPLE-RADIUS=500;X-TITLE=2 Embankment Rd:geo:-71.070889,42.36092
END:VEVENT
BEGIN:VEVENT
DTSTART;TZID=America/New_York:20260422T153000
DTEND;TZID=America/New_York:20260422T170000
DTSTAMP:20260422T195310
CREATED:20260307T150935Z
LAST-MODIFIED:20260422T135416Z
UID:10000862-1776871800-1776877200@www.waringschool.org
SUMMARY:Varsity Ultimate @ Commonwealth
DESCRIPTION:Leave Hazards on in dropoff zone- put note on clip of paper on dashboard. \nSpectator parking- nearby options for parking garages.
URL:https://www.waringschool.org/event/varsity-ultimate-commonwealth/
LOCATION:Teddy Ebersol’s Red Sox Fields\, 2 Embankment Rd\, Boston\, MA\, United States
CATEGORIES:Athletics
GEO:42.36092;-71.070889
X-APPLE-STRUCTURED-LOCATION;VALUE=URI;X-ADDRESS=Teddy Ebersol’s Red Sox Fields 2 Embankment Rd Boston MA United States;X-APPLE-RADIUS=500;X-TITLE=2 Embankment Rd:geo:-71.070889,42.36092
END:VEVENT
BEGIN:VEVENT
DTSTART;TZID=America/New_York:20260422T160000
DTEND;TZID=America/New_York:20260422T173000
DTSTAMP:20260422T195310
CREATED:20260306T230909Z
LAST-MODIFIED:20260422T170912Z
UID:10000857-1776873600-1776879000@www.waringschool.org
SUMMARY:BV Lax @ Landmark
DESCRIPTION:
URL:https://www.waringschool.org/event/bv-lax-landmark/
CATEGORIES:Athletics
END:VEVENT
END:VCALENDAR