BEGIN:VCALENDAR
VERSION:2.0
PRODID:-//Waring School - ECPv6.15.15//NONSGML v1.0//EN
CALSCALE:GREGORIAN
METHOD:PUBLISH
X-WR-CALNAME:Waring School
X-ORIGINAL-URL:https://www.waringschool.org
X-WR-CALDESC:Events for Waring School
REFRESH-INTERVAL;VALUE=DURATION:PT1H
X-Robots-Tag:noindex
X-PUBLISHED-TTL:PT1H
BEGIN:VTIMEZONE
TZID:America/New_York
BEGIN:DAYLIGHT
TZOFFSETFROM:-0500
TZOFFSETTO:-0400
TZNAME:EDT
DTSTART:20250309T070000
END:DAYLIGHT
BEGIN:STANDARD
TZOFFSETFROM:-0400
TZOFFSETTO:-0500
TZNAME:EST
DTSTART:20251102T060000
END:STANDARD
BEGIN:DAYLIGHT
TZOFFSETFROM:-0500
TZOFFSETTO:-0400
TZNAME:EDT
DTSTART:20260308T070000
END:DAYLIGHT
BEGIN:STANDARD
TZOFFSETFROM:-0400
TZOFFSETTO:-0500
TZNAME:EST
DTSTART:20261101T060000
END:STANDARD
BEGIN:DAYLIGHT
TZOFFSETFROM:-0500
TZOFFSETTO:-0400
TZNAME:EDT
DTSTART:20270314T070000
END:DAYLIGHT
BEGIN:STANDARD
TZOFFSETFROM:-0400
TZOFFSETTO:-0500
TZNAME:EST
DTSTART:20271107T060000
END:STANDARD
END:VTIMEZONE
BEGIN:VEVENT
DTSTART;TZID=America/New_York:20260421T160000
DTEND;TZID=America/New_York:20260421T170000
DTSTAMP:20260421T055208
CREATED:20260417T135228Z
LAST-MODIFIED:20260420T135408Z
UID:10000992-1776787200-1776790800@www.waringschool.org
SUMMARY:Varsity Ultimate H Gann
DESCRIPTION:
URL:https://www.waringschool.org/event/varsity-ultimate-h-gann/
CATEGORIES:Athletics
END:VEVENT
BEGIN:VEVENT
DTSTART;TZID=America/New_York:20260421T160000
DTEND;TZID=America/New_York:20260421T173000
DTSTAMP:20260421T055208
CREATED:20260306T212426Z
LAST-MODIFIED:20260421T064014Z
UID:10000854-1776787200-1776792600@www.waringschool.org
SUMMARY:GVL @ Gann
DESCRIPTION:
URL:https://www.waringschool.org/event/gvl-gann/
LOCATION:Gann Academy\, 333 Forest St\, Waltham\, MA\, United States
CATEGORIES:Athletics
GEO:42.395451;-71.218379
X-APPLE-STRUCTURED-LOCATION;VALUE=URI;X-ADDRESS=Gann Academy 333 Forest St Waltham MA United States;X-APPLE-RADIUS=500;X-TITLE=333 Forest St:geo:-71.218379,42.395451
END:VEVENT
BEGIN:VEVENT
DTSTART;TZID=America/New_York:20260421T160000
DTEND;TZID=America/New_York:20260421T173000
DTSTAMP:20260421T055208
CREATED:20260401T200924Z
LAST-MODIFIED:20260401T200924Z
UID:10000881-1776787200-1776792600@www.waringschool.org
SUMMARY:JV Ultimate vs. Gann 4pm
DESCRIPTION:
URL:https://www.waringschool.org/event/jv-ultimate-vs-gann-4pm-2/
CATEGORIES:Athletics
END:VEVENT
BEGIN:VEVENT
DTSTART;TZID=America/New_York:20260421T160000
DTEND;TZID=America/New_York:20260421T173000
DTSTAMP:20260421T055208
CREATED:20260401T200924Z
LAST-MODIFIED:20260420T135408Z
UID:10000887-1776787200-1776792600@www.waringschool.org
SUMMARY:JV Ultimate vs. Gann 4pm
DESCRIPTION:
URL:https://www.waringschool.org/event/jv-ultimate-vs-gann-4pm/
CATEGORIES:Athletics
END:VEVENT
END:VCALENDAR